BEGIN:VCALENDAR
VERSION:2.0
PRODID:-//MSD Animal Health//NONSGML MAH Events v1.5.1//EN
CALSCALE:GREGORIAN
BEGIN:VEVENT
DTSTAMP:20260422T104236Z
UID:754c873df2635fbd4032266cce4e63c8
TZID:Atlantic/Azores
CREATED:20260415T133527Z
LAST-MODIFIED:20260415T134251Z
SUMMARY:Recordatorio Scalibor®
DESCRIPTION:¡Es hora de cambiarle el collar Scalibor® a tu perro! Así seguirá protegido otros 12 meses frente al flebotomo\, transmisor de la leishmaniosis. \nhttps://msd-animal-health.es/tutores-de-mascotas/soluciones/scalibor/
URL:https://www.msd-animal-health.es/recordatorios/recordatorio-scalibor/
DTSTART;TZID=Atlantic/Azores;VALUE=DATE:20270422
DTEND;TZID=Atlantic/Azores;VALUE=DATE:20270422
RRULE:FREQ=YEARLY;INTERVAL=1;COUNT=5
END:VEVENT
END:VCALENDAR